BEGIN:VCALENDAR
VERSION:2.0
PRODID:-//81.169.145.70//NONSGML kigkonsult.se iCalcreator 2.20//
CALSCALE:GREGORIAN
METHOD:PUBLISH
X-WR-TIMEZONE:Europe/Amsterdam
BEGIN:VEVENT
UID:event498@AMVJ Golf
DTSTAMP:20260421T140614Z
CATEGORIES:Toernooi
DESCRIPTION:KoningsdagToernooi\nCategorie: Toernooi\nLink: https://www.amvj
 -golf.nl/home/index.php?option=com_jem&view=event&id=498:koningsdagtoernoo
 i\n
DTSTART;TZID=Europe/Amsterdam:20260427T123000
DTEND;TZID=Europe/Amsterdam:20260427T123000
SUMMARY:KoningsdagToernooi
URL:https://www.amvj-golf.nl/home/index.php?option=com_jem&view=event&id=49
 8:koningsdagtoernooi
END:VEVENT
END:VCALENDAR